BEGIN:VCALENDAR
VERSION:2.0
CALSCALE:GREGORIAN
BEGIN:VEVENT
DTSTART;TZID=Europe/Berlin:20231027T160000
DTEND;TZID=Europe/Berlin:20231028T000000
SUMMARY:Görlitz Kinder Academy\: Watch out\, flood! - How soil animals survive floods
DESCRIPTION:
END:VEVENT
END:VCALENDAR