BEGIN:VCALENDAR
VERSION:2.0
CALSCALE:GREGORIAN
BEGIN:VEVENT
DTSTART;TZID=Europe/Berlin:20241217T120000
DTEND;TZID=Europe/Berlin:20241218T000000
SUMMARY:Un/simultaneities\: Gender Equality and Sexism in STEM Subjects - Perspectives and Challenges
DESCRIPTION:Interactive online lunch lecture by the Equal Opportunities Coordination Office on December 17\, 2024
END:VEVENT
END:VCALENDAR