BEGIN:VCALENDAR
VERSION:2.0
CALSCALE:GREGORIAN
BEGIN:VEVENT
DTSTART;TZID=Europe/Berlin:20240411T143000
DTEND;TZID=Europe/Berlin:20240412T000000
SUMMARY:Business model innovations (online)
DESCRIPTION:Revolutionize your business model\: innovation that goes beyond the familiar
END:VEVENT
END:VCALENDAR