BEGIN:VCALENDAR
VERSION:2.0
CALSCALE:GREGORIAN
BEGIN:VEVENT
DTSTART;TZID=Europe/Berlin:20220607T160000
DTEND;TZID=Europe/Berlin:20220608T000000
SUMMARY:(Business) idea visualization (hybrid)
DESCRIPTION:In this impulse workshop\, you will build up a small visualization toolset.
END:VEVENT
END:VCALENDAR