BEGIN:VCALENDAR
VERSION:2.0
CALSCALE:GREGORIAN
BEGIN:VEVENT
DTSTART;TZID=Europe/Berlin:20221102T110000
DTEND;TZID=Europe/Berlin:20221103T000000
SUMMARY:Trilateral dialog\: Germany\, Czech Republic\, Poland
DESCRIPTION:Trilateral dialog\: Germany\, Czech Republic\, Poland - A common\, energy policy path in uncertain times? A discussion on the challenges facing the energy sector in the border triangle.
END:VEVENT
END:VCALENDAR