BEGIN:VCALENDAR
VERSION:2.0
CALSCALE:GREGORIAN
BEGIN:VEVENT
DTSTART;TZID=Europe/Berlin:20240905T100000
DTEND;TZID=Europe/Berlin:20240906T000000
SUMMARY:Crossed for the youth?
DESCRIPTION:Election analysis part I\:Consequences of the state elections for policies for young people and child and youth services.
END:VEVENT
END:VCALENDAR