BEGIN:VCALENDAR
VERSION:2.0
CALSCALE:GREGORIAN
BEGIN:VEVENT
DTSTART;TZID=Europe/Berlin:20240605T160000
DTEND;TZID=Europe/Berlin:20240606T000000
SUMMARY:Doctorate after FH degree
DESCRIPTION:Event for dies academicus on 05.06.2024\, 16.00\; House GI\, Room 1.05
END:VEVENT
END:VCALENDAR