BEGIN:VCALENDAR
VERSION:2.0
CALSCALE:GREGORIAN
BEGIN:VEVENT
DTSTART;TZID=Europe/Berlin:20230826T120000
DTEND;TZID=Europe/Berlin:20230827T000000
SUMMARY:Skilled labor exchange
DESCRIPTION:We show our jobs with a view at the Görlitz Old Town Festival
END:VEVENT
END:VCALENDAR