BEGIN:VCALENDAR
VERSION:2.0
CALSCALE:GREGORIAN
BEGIN:VEVENT
DTSTART;TZID=Europe/Berlin:20240319T130000
DTEND;TZID=Europe/Berlin:20240320T000000
SUMMARY:F for future - F for strength rethought
DESCRIPTION:F for force - editorial meeting
END:VEVENT
END:VCALENDAR