BEGIN:VCALENDAR
VERSION:2.0
CALSCALE:GREGORIAN
BEGIN:VEVENT
DTSTART;TZID=Europe/Berlin:20221005T173000
DTEND;TZID=Europe/Berlin:20221006T000000
SUMMARY:Opening of the Science Year 2022/23
DESCRIPTION:Putting the heat supply to the test?
END:VEVENT
END:VCALENDAR