BEGIN:VCALENDAR
VERSION:2.0
CALSCALE:GREGORIAN
BEGIN:VEVENT
DTSTART;TZID=Europe/Berlin:20250202T093000
DTEND;TZID=Europe/Berlin:20250429T000000
SUMMARY:Digital Workspace (for teachers)\: Basics for the promotion of digital skills in teaching (2025)
DESCRIPTION:What will the teaching of tomorrow look like? Digital skills and especially the use of AI are becoming indispensable. The workspace provides an insight into the topic\, helps with the targeted selection of tools and shows possibilities for transfer.
END:VEVENT
END:VCALENDAR