BEGIN:VCALENDAR
VERSION:2.0
CALSCALE:GREGORIAN
BEGIN:VEVENT
DTSTART;TZID=Europe/Berlin:20240522T153000
DTEND;TZID=Europe/Berlin:20240524T000000
SUMMARY:&quot;Democracy gambled away&quot;
DESCRIPTION:Playing\, listening &amp; Discussing together over drinks and snacks
END:VEVENT
END:VCALENDAR