BEGIN:VCALENDAR
VERSION:2.0
CALSCALE:GREGORIAN
BEGIN:VEVENT
DTSTART;TZID=Europe/Berlin:20241109T093000
DTEND;TZID=Europe/Berlin:20241110T000000
SUMMARY:Urban fires and disasters
DESCRIPTION:Autumn conference of the Oberlausitzische Gesellschaft der Wissenschaften on November 9\, 2024
END:VEVENT
END:VCALENDAR