BEGIN:VCALENDAR
VERSION:2.0
CALSCALE:GREGORIAN
BEGIN:VEVENT
DTSTART;TZID=Europe/Berlin:20230609T100000
DTEND;TZID=Europe/Berlin:20230612T000000
SUMMARY:Zittau Kinder Academy\: How are machines created in the computer? Special morning event for elementary school from Zittau and the surrounding area
DESCRIPTION:How are machines created in the computer? Special morning event for elementary school from Zittau and the surrounding area. Prof. Dr.-Ing. Frank Hentschel and Dipl.-Ing. Stephan Zahn\; HSZG\, Faculty of Mechanical Engineering
END:VEVENT
END:VCALENDAR