BEGIN:VCALENDAR
VERSION:2.0
CALSCALE:GREGORIAN
BEGIN:VEVENT
DTSTART;TZID=Europe/Berlin:20221107T090000
DTEND;TZID=Europe/Berlin:20221108T000000
SUMMARY:The 31st energy seminar in Görlitz under the motto\: Green district heating
DESCRIPTION:
END:VEVENT
END:VCALENDAR