BEGIN:VCALENDAR
VERSION:2.0
CALSCALE:GREGORIAN
BEGIN:VEVENT
DTSTART;TZID=Europe/Berlin:20221109T180000
DTEND;TZID=Europe/Berlin:20221110T000000
SUMMARY:Citizens meet science - Umgebindehäuser and digitization
DESCRIPTION:
END:VEVENT
END:VCALENDAR