BEGIN:VCALENDAR
VERSION:2.0
CALSCALE:GREGORIAN
BEGIN:VEVENT
DTSTART;TZID=Europe/Berlin:20221011T180000
DTEND;TZID=Europe/Berlin:20221012T000000
SUMMARY:Citizens meet science - energy storage in the Zittau power plant laboratory
DESCRIPTION:
END:VEVENT
END:VCALENDAR