BEGIN:VCALENDAR
VERSION:2.0
CALSCALE:GREGORIAN
BEGIN:VEVENT
DTSTART;TZID=Europe/Berlin:20240909T090000
DTEND;TZID=Europe/Berlin:20250322T000000
SUMMARY:Basic course in university didactics
DESCRIPTION:Acquire a solid foundation for your further development as a university lecturer!
END:VEVENT
END:VCALENDAR