BEGIN:VCALENDAR
VERSION:2.0
CALSCALE:GREGORIAN
BEGIN:VEVENT
DTSTART;TZID=Europe/Berlin:20220602T140000
DTEND;TZID=Europe/Berlin:20220603T000000
SUMMARY:4th alliance meeting of Lausitz - Life &amp; Technology
DESCRIPTION:On June 2\, 2022\, Lausitz - Life &amp; Technology (L&amp;T) invites its alliance partners to the 4th alliance meeting.
END:VEVENT
END:VCALENDAR