BEGIN:VCALENDAR
VERSION:2.0
CALSCALE:GREGORIAN
BEGIN:VEVENT
DTSTART;TZID=Europe/Berlin:20241115T093000
DTEND;TZID=Europe/Berlin:20241116T000000
SUMMARY:Zuwanderung als Instrument der Fachkräftegewinnung!?
DESCRIPTION:Stiftungsfachtag am 15. November 2024 an der EH Freiburg
END:VEVENT
END:VCALENDAR