BEGIN:VCALENDAR
VERSION:2.0
CALSCALE:GREGORIAN
BEGIN:VEVENT
DTSTART;TZID=Europe/Berlin:20240517T150000
DTEND;TZID=Europe/Berlin:20240518T000000
SUMMARY:Zittauer Kinderakademie\: Wieso ist der sächsische Herrscher August der Starke in Polen so berühmt? 
DESCRIPTION:
END:VEVENT
END:VCALENDAR