BEGIN:VCALENDAR
VERSION:2.0
CALSCALE:GREGORIAN
BEGIN:VEVENT
DTSTART;TZID=Europe/Berlin:20240927T150000
DTEND;TZID=Europe/Berlin:20240928T000000
SUMMARY:Zittauer Kinderakademie\: Wie funktioniert ein Computer?  Ein Einblick in die Welt der Programmierung
DESCRIPTION:
END:VEVENT
END:VCALENDAR