BEGIN:VCALENDAR
VERSION:2.0
CALSCALE:GREGORIAN
BEGIN:VEVENT
DTSTART;TZID=Europe/Berlin:20221125T150000
DTEND;TZID=Europe/Berlin:20221126T000000
SUMMARY:Zittauer Kinderakademie\: Vor-Weihnachtliche Schauvorlesung
DESCRIPTION:
END:VEVENT
END:VCALENDAR