BEGIN:VCALENDAR
VERSION:2.0
CALSCALE:GREGORIAN
BEGIN:VEVENT
DTSTART;TZID=Europe/Berlin:20241206T100000
DTEND;TZID=Europe/Berlin:20241207T000000
SUMMARY:Zittauer Kinderakademie\: Programmieren mit Daten – Lernen durch Beispiele
DESCRIPTION:Kinderakademie vor Ort in der Region - zu Gast im ZCOM Hoyerswerda!
END:VEVENT
END:VCALENDAR