BEGIN:VCALENDAR
VERSION:2.0
CALSCALE:GREGORIAN
BEGIN:VEVENT
DTSTART;TZID=Europe/Berlin:20240607T100000
DTEND;TZID=Europe/Berlin:20240608T000000
SUMMARY:Zittauer Kinderakademie\: Volle Power - Die energiegeladene Wissensshow!
DESCRIPTION:Sonderveranstaltung für Grundschulen aus Zittau und Umgebung mit den Physikanten!
END:VEVENT
END:VCALENDAR