BEGIN:VCALENDAR
VERSION:2.0
CALSCALE:GREGORIAN
BEGIN:VEVENT
DTSTART;TZID=Europe/Berlin:20241025T100000
DTEND;TZID=Europe/Berlin:20241026T000000
SUMMARY:Zittauer Kinderakademie\: Ohne ihn läuft nichts?!
DESCRIPTION:Kinderakademie vor Ort in der Region - zu Gast am Phillip-Melanchthon-Gymn. Bautzen!
END:VEVENT
END:VCALENDAR