BEGIN:VCALENDAR
VERSION:2.0
CALSCALE:GREGORIAN
BEGIN:VEVENT
DTSTART;TZID=Europe/Berlin:20240607T150000
DTEND;TZID=Europe/Berlin:20240608T000000
SUMMARY:Zittauer Kinderakademie\: Granit - ein Schatz unserer Oberlausitz
DESCRIPTION:Nachgeholter Beitrag vom 1.3.
END:VEVENT
END:VCALENDAR