BEGIN:VCALENDAR
VERSION:2.0
CALSCALE:GREGORIAN
BEGIN:VEVENT
DTSTART;TZID=Europe/Berlin:20221005T161500
DTEND;TZID=Europe/Berlin:20221006T000000
SUMMARY:SeniorenKolleg\: WISSENSCHAFT TRIFFT KUNST Künstlergespräch mit Helga und Ulrich Pilz (Löbau) 
DESCRIPTION:WISSENSCHAFT TRIFFT KUNST Künstlergespräch im Seniorenkolleg mit Helga und Ulrich Pilz (Löbau)\, Mittwoch\, 5.10. \, 16\:15 Hochschulbibliothek Zittau
END:VEVENT
END:VCALENDAR