BEGIN:VCALENDAR
VERSION:2.0
CALSCALE:GREGORIAN
BEGIN:VEVENT
DTSTART;TZID=Europe/Berlin:20221216T150000
DTEND;TZID=Europe/Berlin:20221217T000000
SUMMARY:Zittauer Kinderakademie\: Warum ist Blut rot?
DESCRIPTION:
END:VEVENT
END:VCALENDAR