BEGIN:VCALENDAR
VERSION:2.0
CALSCALE:GREGORIAN
BEGIN:VEVENT
DTSTART;TZID=Europe/Berlin:20230915T150000
DTEND;TZID=Europe/Berlin:20230916T000000
SUMMARY:Kinderakademie Zittau\: Unbekannten Tätern ein Gesicht geben – wie ein Phantombild entsteht
DESCRIPTION:
END:VEVENT
END:VCALENDAR