BEGIN:VCALENDAR
VERSION:2.0
CALSCALE:GREGORIAN
BEGIN:VEVENT
DTSTART;TZID=Europe/Berlin:20230914T100000
DTEND;TZID=Europe/Berlin:20230915T000000
SUMMARY:Transferkonferenz\: Demokratiebildung für Menschen mit Lernbesonderheiten
DESCRIPTION:
END:VEVENT
END:VCALENDAR