BEGIN:VCALENDAR
VERSION:2.0
CALSCALE:GREGORIAN
BEGIN:VEVENT
DTSTART;TZID=Europe/Berlin:20240308T091000
DTEND;TZID=Europe/Berlin:20240310T000000
SUMMARY:SPIN2030 Wissenschaftsfestival
DESCRIPTION:Die Hochschule Zittau/Görlitz beteiligt sich mit Exponaten\, Workshops und Fachgesprächen am SPIN2030 Wissenschaftsfestival in Dresden\, 08. - 09. März 2024.
END:VEVENT
END:VCALENDAR