BEGIN:VCALENDAR
VERSION:2.0
CALSCALE:GREGORIAN
BEGIN:VEVENT
DTSTART;TZID=Europe/Berlin:20231213T140000
DTEND;TZID=Europe/Berlin:20231214T000000
SUMMARY:Schulnetzwerk\: Kollegialer Austausch zum Thema Medienbildung in Mathe &amp; Naturwissenschaften
DESCRIPTION:
END:VEVENT
END:VCALENDAR