BEGIN:VCALENDAR
VERSION:2.0
CALSCALE:GREGORIAN
BEGIN:VEVENT
DTSTART;TZID=Europe/Berlin:20230419T173000
DTEND;TZID=Europe/Berlin:20230516T000000
SUMMARY:Schülerpraktikum &quot;Smart-LST&quot;
DESCRIPTION:Eine Anmeldung ist erforderlich
END:VEVENT
END:VCALENDAR