BEGIN:VCALENDAR
VERSION:2.0
CALSCALE:GREGORIAN
BEGIN:VEVENT
DTSTART;TZID=Europe/Berlin:20250304T130000
DTEND;TZID=Europe/Berlin:20250305T000000
SUMMARY:Netzwerkkolloquium\: Innovative Materialien in der Kreislaufwirtschaft und im Umweltschutz
DESCRIPTION:Kolloquium des RENI-Projekts
END:VEVENT
END:VCALENDAR