BEGIN:VCALENDAR
VERSION:2.0
CALSCALE:GREGORIAN
BEGIN:VEVENT
DTSTART;TZID=Europe/Berlin:20230919T090000
DTEND;TZID=Europe/Berlin:20230920T000000
SUMMARY:Problembasiertes Lernen – Selbstgesteuertes Lernen effektiv fördern
DESCRIPTION:Entdecken Sie im Workshop die faszinierende Welt des problembasierten Lernens und von aktivierenden Lehrmethoden. Tauchen Sie ein in die Grundlagen dieser Lehrmethode und erhalten Sie das nötige Rüstzeug\, um sie erfolgreich in Ihrer eigenen Lehre anzuwenden.
END:VEVENT
END:VCALENDAR