BEGIN:VCALENDAR
VERSION:2.0
CALSCALE:GREGORIAN
BEGIN:VEVENT
DTSTART;TZID=Europe/Berlin:20221004T070000
DTEND;TZID=Europe/Berlin:20221005T000000
SUMMARY:Start der Online-Einschreibung zum Hochschulsport 
DESCRIPTION:Jetzt die Sportkurse für das Wintersemester 2022/23 sichern
END:VEVENT
END:VCALENDAR