BEGIN:VCALENDAR
VERSION:2.0
CALSCALE:GREGORIAN
BEGIN:VEVENT
DTSTART;TZID=Europe/Berlin:20220611T090000
DTEND;TZID=Europe/Berlin:20220612T000000
SUMMARY:Mitarbeiterführung für junge Unternehmerinnen und Unternehmer
DESCRIPTION:Mit dieser praxisorientierten Veranstaltung können Sie Ihre Fach- und Führungskompetenzentwickeln und ausbauen.
END:VEVENT
END:VCALENDAR