BEGIN:VCALENDAR
VERSION:2.0
CALSCALE:GREGORIAN
BEGIN:VEVENT
DTSTART;TZID=Europe/Berlin:20230505T100000
DTEND;TZID=Europe/Berlin:20230506T000000
SUMMARY:Mein Scooter düst mit Wasserstoff! Kinderakademie vor Ort in der Region in Weißwasser
DESCRIPTION:Mein Scooter düst mit Wasserstoff!Kinderakademie vor Ort in der Region – zu Gast in Weißwasser. Dr.-Ing. Sebastian Schmidt und Dipl.-Ing. Maciej Satora\;Fraunhofer Hydrogen Lab Görlitz. Veranstaltung in Zusammenarbeit mit StationWeißwasser e.V.und der Stadtwerke Weißwasser GmbH\, Straße des Friedens 13. Veranstaltungsort\: E-Werk Stadtwerke Weißwasser GmbH
END:VEVENT
END:VCALENDAR