BEGIN:VCALENDAR
VERSION:2.0
CALSCALE:GREGORIAN
BEGIN:VEVENT
DTSTART;TZID=Europe/Berlin:20240812T120000
DTEND;TZID=Europe/Berlin:20240817T000000
SUMMARY:Klima-Energiecamp in Knappenrode
DESCRIPTION:Im Klima-Energiecamp forschen und experimentieren Schülerinnen der Klasse 8 der Freien Oberschule Boxberg zu aktuellen Energie- und Klimafragen. Das Rahmenprogramm besteht aus Experimenten\, spannenden Gesprächen mit Studierenden\, Kochen am Lagerfeuer und vielen Spielen. Übernachtet wird in Zelten.
END:VEVENT
END:VCALENDAR