BEGIN:VCALENDAR
VERSION:2.0
CALSCALE:GREGORIAN
BEGIN:VEVENT
DTSTART;TZID=Europe/Berlin:20240116T110800
DTEND;TZID=Europe/Berlin:20240116T110800
SUMMARY:Karrierestart Dresden 
DESCRIPTION:
END:VEVENT
END:VCALENDAR