BEGIN:VCALENDAR
VERSION:2.0
CALSCALE:GREGORIAN
BEGIN:VEVENT
DTSTART;TZID=Europe/Berlin:20240313T143000
DTEND;TZID=Europe/Berlin:20240314T000000
SUMMARY:Informatik-Kolloquium
DESCRIPTION:Astronomische Daten aus der ganzen Welt nach Sachsen\: auf dem Weg zum Deutschen Zentrum für Astrophysik
END:VEVENT
END:VCALENDAR