BEGIN:VCALENDAR
VERSION:2.0
CALSCALE:GREGORIAN
BEGIN:VEVENT
DTSTART;TZID=Europe/Berlin:20241025T160000
DTEND;TZID=Europe/Berlin:20241026T000000
SUMMARY:Görlitzer Kinderakademie\: Was macht ein Pferd im Flugzeug?
DESCRIPTION: Über meine Reise mit Wildpferden nach Kasachstan\, Dr. Annette Klein\, Tierpark Berlin-Friedrichsfelde
END:VEVENT
END:VCALENDAR