BEGIN:VCALENDAR
VERSION:2.0
CALSCALE:GREGORIAN
BEGIN:VEVENT
DTSTART;TZID=Europe/Berlin:20231201T160000
DTEND;TZID=Europe/Berlin:20231202T000000
SUMMARY:Görlitzer Kinderakademie\: Superbären unterwegs im Weltraum?
DESCRIPTION:
END:VEVENT
END:VCALENDAR