BEGIN:VCALENDAR
VERSION:2.0
CALSCALE:GREGORIAN
BEGIN:VEVENT
DTSTART;TZID=Europe/Berlin:20240920T160000
DTEND;TZID=Europe/Berlin:20240921T000000
SUMMARY:Görlitzer Kinderakademie\: Spurensuche an der Neiße –  Wo lebt die Flußuferwolfsspinne? (Kopie 1)
DESCRIPTION:
END:VEVENT
END:VCALENDAR