BEGIN:VCALENDAR
VERSION:2.0
CALSCALE:GREGORIAN
BEGIN:VEVENT
DTSTART;TZID=Europe/Berlin:20230512T160000
DTEND;TZID=Europe/Berlin:20230513T000000
SUMMARY:Görlitzer Kinderakademie\: Sherlock Holmes\, der größte Detektiv aller Zeiten
DESCRIPTION:
END:VEVENT
END:VCALENDAR