BEGIN:VCALENDAR
VERSION:2.0
CALSCALE:GREGORIAN
BEGIN:VEVENT
DTSTART;TZID=Europe/Berlin:20230616T160000
DTEND;TZID=Europe/Berlin:20230617T000000
SUMMARY:Görlitzer Kinderakademie\: Mikołaja Kopernika i Marii Curie – Wkład gości z polskich uczelni
DESCRIPTION:
END:VEVENT
END:VCALENDAR