BEGIN:VCALENDAR
VERSION:2.0
CALSCALE:GREGORIAN
BEGIN:VEVENT
DTSTART;TZID=Europe/Berlin:20241122T160000
DTEND;TZID=Europe/Berlin:20241123T000000
SUMMARY:Görlitzer Kinderakademie\: Lebte der Berggeist Karkonosz wirklich?
DESCRIPTION:
END:VEVENT
END:VCALENDAR