BEGIN:VCALENDAR
VERSION:2.0
CALSCALE:GREGORIAN
BEGIN:VEVENT
DTSTART;TZID=Europe/Berlin:20241213T160000
DTEND;TZID=Europe/Berlin:20241214T000000
SUMMARY:Görlitzer Kinderakademie\: Jedem seinen Goldesel?!
DESCRIPTION:
END:VEVENT
END:VCALENDAR