BEGIN:VCALENDAR
VERSION:2.0
CALSCALE:GREGORIAN
BEGIN:VEVENT
DTSTART;TZID=Europe/Berlin:20240426T160000
DTEND;TZID=Europe/Berlin:20240427T000000
SUMMARY:Görlitzer Kinderakademie\: Die spinnen\, die Römer! Interkulturelle Unterschiede &amp; Interkulturelle Kompetenz
DESCRIPTION:
END:VEVENT
END:VCALENDAR